Workbook

Sheet Timesheet January 2024
I1: January 2024
A4: Name of Employee: | B4: Matthew Brian | E4: Employee Number: | G4: 704704 | K4: Timesheet checklist
A5: School/Unit: | B5: Birmingham Campus | E5: Work on Validated Modules? | G5: Yes | K5: Please ensure the following are completed
A6: Post: | B6: Teaching / Non-Teaching | K6: Employee Name | M6: =IF(B4="", 0, 1) -> 1
A7: Cost Centre: | B7: UWTSD Birmingham (G4001) | K7: Employee Number | M7: =IF(G4="", 0, 1) -> 1
A8: Post Number: | K8: Employee Signature | M8: =IF(C114="", 0, 1) -> 1
A11: Teaching Activity (Timetabled lecture, dissertation supervision & resit/rework support) | L11: To be completed by Admin.
A12: Date | B12: Start | C12: End | D12: Break | E12: Total Hours | F12: Module Code | G12: Module Title | I12: Description of work undertaken | L12: Confirmed by | M12: Comments
A13: 45307 | B13: 09:15 | C13: 13:15 | E13: =(C13-B13)*24-D13 -> 4 | F13: ACCA4026 | G13: =_xlfn.IFNA(VLOOKUP(F13,Data!A:B,2,FALSE), "") -> Software Solutions for Business | I13: Timetabled Lecture
A14: 45308 | B14: 09:15 | C14: 13:15 | E14: =(C14-B14)*24-D14 -> 4 | F14: LCLM4001 | G14: =_xlfn.IFNA(VLOOKUP(F14,Data!A:B,2,FALSE), "") -> Academic Skills | I14: Timetabled Lecture
A15: 45308 | B15: 14:00 | C15: 18:00 | E15: =(C15-B15)*24-D15 -> 4 | F15: LCBB4006 | G15: =_xlfn.IFNA(VLOOKUP(F15,Data!A:B,2,FALSE), "") -> Academic Skills | I15: Timetabled Lecture
A16: 45309 | B16: 09:15 | C16: 13:15 | E16: =(C16-B16)*24-D16 -> 4 | F16: LCHS4001 | G16: =_xlfn.IFNA(VLOOKUP(F16,Data!A:B,2,FALSE), "") -> Academic and Employability Skills | I16: Timetabled Lecture
A17: 45309 | B17: 14:00 | C17: 18:00 | E17: =(C17-B17)*24-D17 -> 4 | F17: LCLM4001 | G17: =_xlfn.IFNA(VLOOKUP(F17,Data!A:B,2,FALSE), "") -> Academic Skills | I17: Timetabled Lecture
A18: 45314 | B18: 09:15 | C18: 13:15 | E18: =(C18-B18)*24-D18 -> 4 | F18: ACCA4026 | G18: =_xlfn.IFNA(VLOOKUP(F18,Data!A:B,2,FALSE), "") -> Software Solutions for Business | I18: Timetabled Lecture
A19: 45315 | B19: 09:15 | C19: 13:15 | E19: =(C19-B19)*24-D19 -> 4 | F19: LCLM4001 | G19: =_xlfn.IFNA(VLOOKUP(F19,Data!A:B,2,FALSE), "") -> Academic Skills | I19: Timetabled Lecture
A20: 45315 | B20: 14:00 | C20: 18:00 | E20: =(C20-B20)*24-D20 -> 4 | F20: LCBB4006 | G20: =_xlfn.IFNA(VLOOKUP(F20,Data!A:B,2,FALSE), "") -> Academic Skills | I20: Timetabled Lecture
A21: 45316 | B21: 09:15 | C21: 13:15 | E21: =(C21-B21)*24-D21 -> 4 | F21: LCHS4001 | G21: =_xlfn.IFNA(VLOOKUP(F21,Data!A:B,2,FALSE), "") -> Academic and Employability Skills | I21: Timetabled Lecture
A22: 45316 | B22: 14:00 | C22: 18:00 | E22: =(C22-B22)*24-D22 -> 4 | F22: LCLM4001 | G22: =_xlfn.IFNA(VLOOKUP(F22,Data!A:B,2,FALSE), "") -> Academic Skills | I22: Timetabled Lecture
A23: 45321 | B23: 09:15 | C23: 13:15 | E23: =(C23-B23)*24-D23 -> 4 | F23: ACCA4026 | G23: =_xlfn.IFNA(VLOOKUP(F23,Data!A:B,2,FALSE), "") -> Software Solutions for Business | I23: Timetabled Lecture
A24: 45322 | B24: 09:15 | C24: 13:15 | E24: =(C24-B24)*24-D24 -> 4 | F24: LCLM4001 | G24: =_xlfn.IFNA(VLOOKUP(F24,Data!A:B,2,FALSE), "") -> Academic Skills | I24: Timetabled Lecture
A25: 45322 | B25: 14:00 | C25: 18:00 | E25: =(C25-B25)*24-D25 -> 4 | F25: LCBB4006 | G25: =_xlfn.IFNA(VLOOKUP(F25,Data!A:B,2,FALSE), "") -> Academic Skills | I25: Timetabled Lecture
E26: =(C26-B26)*24-D26 -> 0 | G26: =_xlfn.IFNA(VLOOKUP(F26,Data!A:B,2,FALSE), "")
E27: =(C27-B27)*24-D27 -> 0 | G27: =_xlfn.IFNA(VLOOKUP(F27,Data!A:B,2,FALSE), "")
E28: =(C28-B28)*24-D28 -> 0 | G28: =_xlfn.IFNA(VLOOKUP(F28,Data!A:B,2,FALSE), "")
E29: =(C29-B29)*24-D29 -> 0 | G29: =_xlfn.IFNA(VLOOKUP(F29,Data!A:B,2,FALSE), "")
E30: =(C30-B30)*24-D30 -> 0 | G30: =_xlfn.IFNA(VLOOKUP(F30,Data!A:B,2,FALSE), "")
E31: =(C31-B31)*24-D31 -> 0 | G31: =_xlfn.IFNA(VLOOKUP(F31,Data!A:B,2,FALSE), "")
E32: =(C32-B32)*24-D32 -> 0 | G32: =_xlfn.IFNA(VLOOKUP(F32,Data!A:B,2,FALSE), "")
E33: =(C33-B33)*24-D33 -> 0 | G33: =_xlfn.IFNA(VLOOKUP(F33,Data!A:B,2,FALSE), "")
E34: =(C34-B34)*24-D34 -> 0 | G34: =_xlfn.IFNA(VLOOKUP(F34,Data!A:B,2,FALSE), "")
E35: =(C35-B35)*24-D35 -> 0 | G35: =_xlfn.IFNA(VLOOKUP(F35,Data!A:B,2,FALSE), "")
E36: =(C36-B36)*24-D36 -> 0 | G36: =_xlfn.IFNA(VLOOKUP(F36,Data!A:B,2,FALSE), "")
E37: =(C37-B37)*24-D37 -> 0 | G37: =_xlfn.IFNA(VLOOKUP(F37,Data!A:B,2,FALSE), "")
D38: Total: | E38: =SUM(E13:E37) -> 52
F40: =SUM(E13:E37) -> 52
A41: Pre-agreed Non-Teaching Activity (Team/staff/module meetings, training, module lead, etc…) | L41: To be completed by Admin.
A42: Hourly Rate (inc. Holiday Pay): £40
A43: Date | B43: Start | C43: End | D43: Break | E43: Total Hours | F43: Module Code | G43: Description of work undertaken | K43: Pre-agreed by | L43: Confirmed by | M43: Comments
A44: 45299 | B44: 14:00 | C44: 15:00 | E44: =(C44-B44)*24-D44 -> 1 | F44: LCHS4001 | G44: Acdemic and Employability meeting | K44: Mark Gallagher-Read
A45: 45302 | B45: 10:00 | C45: 11:00 | E45: =(C45-B45)*24-D45 -> 1 | G45: All Staff Meeting | K45: Mark Gallagher-Read
...

Sheet Marking Rates
A1: Component Code | B1: Name | C1: Marking Rate | D1: Moderation
A2: ACCA4019 C1 | B2: Analysing and Solving Problems (50%) | C2: 5 | D2: 5
A3: ACCA4019 C2 | B3: Analysing and Solving Problems (50%) | C3: 5 | D3: 5
A4: ACCA4022 C1 | B4: Computer Architecture and Operating Systems (50%) | C4: 5 | D4: 5
A5: ACCA4022 C2 | B5: Computer Architecture and Operating Systems (50%) | C5: 5 | D5: 5
A6: ACCA4023 C1 | B6: Introduction to Web and Database Concepts (50%) | C6: 5 | D6: 5
A7: ACCA4023 C2 | B7: Introduction to Web and Database Concepts (50%) | C7: 5 | D7: 5
A8: ACCA4024 C1 | B8: Networks and Cyber Security Essentials (50%) | C8: 5 | D8: 5
A9: ACCA4024 C2 | B9: Networks and Cyber Security Essentials (50%) | C9: 5 | D9: 5
A10: ACCA4025 C1 | B10: Learning in the Digital Era (50%) | C10: 5 | D10: 5
A11: ACCA4025 C2 | B11: Learning in the Digital Era (50%) | C11: 5 | D11: 5
A12: ACCA4026 | B12: Software Solutions for Business (100%) | C12: 10 | D12: 5
A13: ACCA5019 C1 | B13: Business and Web Management (50%) | C13: 5 | D13: 5
... A215: LCBM7034 | B215: International Business Concepts (100%) | C215: 10 | D215: 5

Sheet Data
A1: Module Code | B1: Course Name | D1: Date | E1: Time | F1: Break | G1: No. Scripts | H1: Agreed/Confirmed
A2: ACCA4019 | B2: Analysing and Solving Problems | D2: 45292 | E2: 07:00 | F2: 0.25 | G2: 1 | H2: DB | K2: Timetabled Lecture | M2: Student Interviews/Admissions
A3: ACCA4022 | B3: Computer Architecture and Operating Systems | D3: 45293 | E3: 07:15 | F3: 0.5 | G3: 2 | H3: CS | K3: Academic Success Session | M3: Admissions Training Session
A4: ACCA4023 | B4: Introduction to Web and Database Concepts | D4: 45294 | E4: 07:30 | F4: 0.75 | G4: 3 | H4: Admissions | K4: Dissertation Supervision
A5: ACCA4024 | B5: Networks and Cyber Security Essentials | D5: 45295 | E5: 07:45 | F5: 1 | G5: 4 | H5: Assessments | K5: Resit/Rework Support
A6: ACCA4025 | B6: Learning in the Digital Era | D6: 45296 | E6: 08:00 | F6: 1.25 | G6: 5 | H6: Abida Perveen
A7: ACCA4026 | B7: Software Solutions for Business | D7: 45297 | E7: 08:15 | F7: 1.5 | G7: 6 | H7: Aliyu Sambo | M7: Marking Assignment
A8: ACCA5019 | B8: Business and Web Management | D8: 45298 | E8: 08:30 | F8: 2 | G8: 7 | H8: Besty Jose | K8: Academic Support | M8: Marking Dissertation
A9: ACCA5023 | B9: Network Operating Systems and Services | D9: 45299 | E9: 08:45 | G9: 8 | H9: Colin Barr | K9: All Staff Meeting | M9: Marking Exam
A10: ACCA5024 | B10: Advanced Networking | D10: 45300 | E10: 09:00 | G10: 9 | H10: Jakub Ceglarz | K10: Awards Ceremony | M10: Marking Presentation
A11: ACCA5026 | B11: Databases and Application Development | D11: 45301 | E11: 09:15 | G11: 10 | H11: Chloe Harries | K11: Mentor Meeting | M11: Marking Project
A12: ACCA5029 | B12: Network Programmability | D12: 45302 | E12: 09:30 | G12: 11 | H12: Corey Street-Coffman | K12: Module Lead Time
A13: ACCA5033 | B13: Changemakers: Creativity and Value Creation | D13: 45303 | E13: 09:45 | G13: 12 | H13: Hamdi Hussain | K13: Module Meeting
A14: ACCA5034 | B14: Data Security and Compliance | D14: 45304 | E14: 10:00 | G14: 13 | H14: Khaza Ahmed | K14: Module Update/Content Development | M14: Assignment Moderation
A15: ACCA5036 | B15: Scripting and Programming Concepts | D15: 45305 | E15: 10:15 | G15: 14 | H15: Lucy Gilbert | K15: Team Meeting | M15: Dissertation Moderation
A16: ACCA6019 | B16: Emerging Trends | D16: 45306 | E16: 10:30 | G16: 15 | H16: Mark Gallagher-Read | K16: Training/CPD (please add details here) | M16: Exam Moderation
A17: ACCA6020 | B17: Independent Project | D17: 45307 | E17: 10:45 | G17: 16 | H17: Md Nazmul Hassan | M17: Presentation Moderation
A18: ACCA6022 | B18: Switching, Routing and Wireless | D18: 45308 | E18: 11:00 | G18: 17 | H18: Quality Assurance | M18: Project Moderation
A19: ACCA6025 | B19: Cloud Computing Administration | D19: 45309 | E19: 11:15 | G19: 18 | H19: Richard Vernon
A20: ACCB4017 | B20: Software Development | D20: 45310 | E20: 11:30 | G20: 19 | H20: Sujeewa Herath
A21: ACCB6000 | B21: Advanced Cyber Security | D21: 45311 | E21: 11:45 | G21: 20 | H21: Student Engagement
A22: BMHP5003 | B22: Introduction to Physiology | D22: 45312 | E22: 12:00 | G22: 21 | H22: Vasilios Tavlaridis
A23: BMHP5004 | B23: Children Young People and Families | D23: 45313 | E23: 12:15 | G23: 22 | H23: Yohan Mendis
A24: BMHP5005 | B24: Introduction to Research | D24: 45314 | E24: 12:30 | G24: 23
A25: BMHP5014 | B25: Changemakers: Creativity and Value Creation | D25: 45315 | E25: 12:45 | G25: 24
A26: BMHP5015 | B26: Changemakers: Building your Personal Brand for Sustainable Employment | D26: 45316 | E26: 13:00 | G26: 25
A27: BMHP5016 | B27: Principles of Health and Social Care | D27: 45317 | E27: 13:15 | G27: 26
A28: BMHP5021 | B28: Protecting and Supporting Families in the Health and Care | D28: 45318 | E28: 13:30 | G28: 27
A29: BMHP5023 | B29: Introduction to Physiology | D29: 45319 | E29: 13:45 | G29: 28
A30: BMHP6006 | B30: Mental Disorders and Psychopathology | D30: 45320 | E30: 14:00 | G30: 29
A31: BMHP6009 | B31: Living with Care: The Older Person | D31: 45321 | E31: 14:15 | G31: 30
A32: BMHP6020 | B32: Independent Project | D32: 45322 | E32: 14:30 | G32: 31
A33: BMHP6021 | B33: Health, Wellbeing and Sustainable Development | E33: 14:45 | G33: 32
A34: BMHP6022 | B34: Community Care and Development | E34: 15:00 | G34: 33
A35: BMSW5101 | B35: Developing Workplace Critical Thinking | E35: 15:15 | G35: 34
A36: BMSW5102 | B36: Developing Relationships and Workplace Achievement | E36: 15:30 | G36: 35
A37: BMSW5103 | B37: Understanding and Engaging in the Customer Experience | E37: 15:45 | G37: 36
A38: BMSW5104 | B38: Managing Projects in the Organisation | E38: 16:00 | G38: 37
A39: BMSW5105 | B39: Workplace Culture and its Impact on Organisational Efficiency | E39: 16:15 | G39: 38
A40: BMSW5106 | B40: Knowledge and Information Management Skills For The Workplace | E40: 16:30 | G40: 39
...
