Workbook

Sheet Cover Sheet
A1: Elemental Cost Plan

Sheet Table Of Contents
A1: Table Of Contents
A3: Reference | C3: Item
A5: Tab 3 | C5: Information Used
A7: Tab 4 | C7: Assumptions & Exclusions
A9: Tab 5 | C9: Initial Feasibility Estimate
A11: Tab 6 | C11: Cost Plan Summary
A13: Tab 7 | C13: 0 Facilitating Works
A15: Tab 8 | C15: 1 Substructure
A17: Tab 9 | C17: 2 Superstructure
A19: Tab 10 | C19: 3 Internal Finishes
A21: Tab 11 | C21: 4 FF&E
A23: Tab 12 | C23: 5 Services
A25: Tab 13 | C25: 6 Prefab & Building Units
... A41: Tab 21 | C41: BCIS Indicies

Sheet Information Used
A1: Information Used
A3: Drawing No. | C3: Drawing Description
A5: 74734 | C5: Decision Notice
A7: 78671 | C7: Design Statement
A9: 74211 | C9: Planning Application
A11: 70361 | C11: Site Elevation to Dockside
A13: 59493 | C13: Site Elevation to Langdon Road
A15: 59694 | C15: Site Elevation to Plot
A17: 59695 | C17: Site Elevation to Plaza
A19: 32644 | C19: Site Location Plan
A21: 59696 | C21: Site Plan
A23: 7364 | C23: Proposed Ground Floor Plan
A25: 70362 | C25: Proposed First Floor Plan
A27: 59697 | C27: Proposed Second Floor Plan
... A35: 59700 | C35: Proposed Roof Plan

Sheet Assumptions & Exclusions
A1: Assumptions & Exclusions
B4: 1.0 Basis for Estimate
B5: 1.01 This elemental cost plan has been created in accordance with NRM1.
B6: 1.02 The scope of works is restricted to the drawings submitted for planning.
B7: 1.03 All specifications are assumed and are to be confirmed.
B8: 1.04 The rates have been taken from SPON's 2020, with the current
B9: tender index being multiplied against the 2020 rate.
B10: 1.05 The tender index has been based on the 4th quarter in 2023
B11: 1.06 The latest tender & cost indicies have been downloaded from BCIS
B12: and are part of this cost report
B13: 1.07 The take-off's have been completed by using the drawings on the
B14: planning portal. A point to note is that due to the drawings being acessed
B15: via the portal, they have been scanned in therefore accuracy of measurement
... B33: NRM2.

Sheet Initial Feasibility Estimate
A1: Initial Feasibility Estimate
A3: PROJECT BRIEF
A5: Construction of 6 storey mixed use development comprising of 1 No. Ground Floor retail unit,
A6: and 1 No. Ground Floor food and drink unit and 132 No. bedroom hotel with 10 No. car parking
A7: spaces and delivery/service yard.
A9: Retail - Cost Per Person; Note - No rate in SPON's for retail so rate for Office been taken
A10: forward (similar specification so rate is applicable)
A11: No. People | B11: Unit | C11: Rate | D11: Total Cost
A12: 50 | B12: Nr | C12: 16000 | D12: =A12*C12 -> 800000
A14: Hotel - Cost Per Bed
A15: No. Beds | B15: Unit | C15: Rate | D15: Total Cost
A16: 132 | B16: Nr | C16: 83000 | D16: =C16*A16 -> 10956000
A18: Car Parking - Cost Per Car / Space
A19: No. Spaces | B19: Unit | C19: Rate | D19: Total Cost
A20: 10 | B20: Nr | C20: 2700 | D20: =C20*A20 -> 27000
A23: Subtotal at 1Q 2020 | D23: =D12+D16+D20 -> 11783000
A25: TPI Adjustment
A26: Year | B26: Tender Index | D26: Total
A27: 1Q2020 | B27: 121.1
A29: 3Q2023 (Assumed) | B29: 184
D31: =SUM(D23/B27)*B29 -> 17903154
A33: Location Adjustment
A34: Location | B34: % Factor | D34: Total
A35: Outer London | B35: 0.01
A37: Wales | B37: 0.009
D39: =SUM(D31*B37/B35) -> 16112839

Sheet Cost Plan Summary
A1: Cost Plan Summary
A3: PROJECT: | C3: SA1 Mixed Use Developtment
A5: DESCRIPTION: | C5: Mixed Use Developtment
A7: GIFA: | C7: 1571
A9: BUILDING WORKS ESTIMATE
A11: GROUP ELEMENT | C11: ELEMENT DESCRIPTION | F11: COSTS | G11: £/m2
A13: GROUP ELEMENT 0 | C13: FACILITATING WORKS | F13: ='0 Facilitating Works'!F51 -> 54304.4 | G13: =F13/C7 -> 34.566773
A15: GROUP ELEMENT 1 | C15: SUBSTRUCTURE | F15: ='1 Substucture'!F66 -> 1388428.5 | G15: =F15/C7 -> 883.78644
A17: GROUP ELEMENT 2 | C17: SUPERSTUCTURE | F17: ='2 Superstructure'!F175 -> 2478849.6 | G17: =F17/C7 -> 1577.8801
A19: GROUP ELEMENT 3 | C19: INTERNAL FINISHES | F19: ='3 Internal Finishes'!F85 -> 948240.8 | G19: =F19/C7 -> 603.59058
A21: GROUP ELEMENT 4 | C21: FITTINGS & FURNISHINGS | F21: ='4 FF&E'!F19 -> 500000 | G21: =F21/C7 -> 318.26862
A23: GROUP ELEMENT 5 | C23: SERVICES | F23: ='5 Services'!F78 -> 500000 | G23: =F23/C7 -> 318.26862
A25: GROUP ELEMENT 6 | C25: PREFABRICATED & BUILDING UNITS | F25: 0 | G25: =F25/C7 -> 0
A27: GROUP ELEMENT 7 | C27: WORKS TO EXISTING BUILDINGS | F27: 0 | G27: =F27/C7 -> 0
A29: GROUP ELEMENT 8 | C29: EXTERNAL WORKS | F29: ='8 External Works'!F83 -> 1085575 | G29: =F29/C7 -> 691.00891
A31: GROUP ELEMENT 9 | C31: MAIN CONTRACTORS PRELIMS | F31: ='9 Main Contractors Prelims'!F13 -> 834647.8 | G31: =F31/C7 -> 531.2844
A33: GROUP ELEMENT 10 | C33: MAIN CONTRACTORS OHP | F33: ='10 Main Contractors OHP'!F14 -> 233701.38 | G33: =F33/C7 -> 148.75963
A35: GROUP ELEMENT 11 | C35: PROJECT DESIGN TEAM FEES | F35: ='11 Project Design Team Fees'!F16 -> 240712.42 | G35: =F35/C7 -> 153.22242
A37: GROUP ELEMENT 12 | C37: OTHER PROJECT COSTS | F37: 0 | G37: =F37/C7 -> 0
A39: GROUP ELEMENT 13 | C39: PROJECT RISKS | F39: As Below | G39: 0
A41: WORKS ESTIMATE TOTAL (SUB TOTAL A) | F41: =F13+F15+F17+F19+F21+F23+F29+F31+F33+F35 -> 8264459.9
A43: FACTORS
A44: CURRENT TPI | E44: 124
A46: CURRENT TPI FORECASTED Q3 2023 (Assumed) TPI | E46: 184
F48: =SUM(F41/E44)*E46 -> 12263392
A49: CURRET COSTS (Outer London Factor) | E49: 0.01
A51: FACTORED COSTS (Wales Factor) | E51: 0.009
F53: =SUM(F48*E51/E49) -> 11037053
A54: FACTOR TOTAL (SUB TOTAL B) | F54: =F53-F41 -> 2772593
A56: PROVISIONAL SUMS (ACCOUNTED FOR)
A57: FITTINGS & FURNISHINGS (FIXED FURNITURE) | F57: 350000
A59: FITTINGS & FURNISHINGS (SIGNAGE) | F59: 50000
A61: SERVICES | F61: 500000
A63: EXTERNAL DRAINAGE | F63: 150000
A65: EXTERNAL SERVICES | F65: 150000
A67: PROVISIONAL SUM (SUB TOTAL C) | F67: =F57+F59+F61+F63+F65 -> 1200000
A69: DESIGN FEES
A71: PROJECT DESIGN TEAM FEES @ 12% OF CONSTRUCTION VALUE
A73: DESIGN FEES (SUB TOTAL D) | F73: As above
A75: RISK ALLOWANCES
...

Sheet Take Off Sheet
A2: PROJECT: SA1 MIXED USE DEVELOPMENT
A3: COST PLAN GROUP ELEMENT: TAKE OFF SHEET
A6: TIM | B6: DIM | C6: SQ | E6: Description
E8: Calculation of Wall Thickness
E9: Half Brick Wall 102.5
E10: Cavity 75
E11: Steel Frame 200 (assumed column thickness)
E12: 377.5
E14: Trench Width (Pile Diameter) 500
E15: Less Wall 377.5
E16: 122.5
E18: Outer Edge of Pile Foundations
E19: W B
E20: 43 43
E22: Removal of Topsoil (Average 150mm Thick)
B23: 43
B24: 43
C25: =B23*B24 -> 1849
E27: Material Arising from Pile Foundations
E29: Pile Diameter: 500mm
E30: Pile Depth: 15m
E31: πr2h = r= pile h = height
E32: π0.25 x 15 = 11.78
B33: 11.78
B34: 125
C35: =SUM(B33*B34) -> 1472.5
E36: Element 3.1 Wall Finishes
E38: Internal wall finishes to be
E39: taped and jointed
E40: Take off room area and x by 131 (hotel room number)
E45: Window Schedule
E47: Elevation to Plot
E48: 3 x rows of 4 = 12
E49: 3 x rows of 5 = 15
E50: 27
E52: Elevation to Langdon
E53: 3 x rows of 4 = 12
E54: 12
E56: Elevation to Dockside
E57: 2 x rows of 4 = 8
...

Sheet 0 Facilitating Works
A2: PROJECT: SA1 MIXED USE DEVELOPMENT
A3: COST PLAN GROUP ELEMENT: 0 FACILITATING WORKS
A6: Ref | B6: Description | C6: Qty | D6: Unit | E6: Rate | F6: £ p
B8: Element 0.1 Toxic / Hazadous
B9: material treatment
A11: 0.111 A | B11: Allowance for asbestos found | C11: 1 | D11: Item | E11: 15000 | F11: =C11*E11 -> 15000
B12: within ground
A14: 0.112 B | B14: Allowance for contaminated | C14: 1 | D14: Item | E14: 20000 | F14: =C14*E14 -> 20000
B15: land (disposal of material). Based
B16: on historic information on ground
B17: conditions / surveys.
B19: To Summary | F19: =F11+F14 -> 35000
B21: Element 0.3 Temporary
B22: Support to Adjacent Structures
A24: 0.311 A | B24: Support to existing structure | C24: 10 | D24: nr | E24: 1230.44 | F24: =C24*E24 -> 12304.4
B25: adjacent to car park
F26: =F24 -> 12304.4
B27: To Summary
B29: Element 0.4 Specialist
B30: Groundworks
A32: 0.431 A | B32: Ground gas venting for radon gas | C32: 1 | D32: Item | E32: 5000 | F32: =C32*E32 -> 5000
B33: due to area - allowance for gas
B34: venting
B36: To Summary | F36: =F32 -> 5000
B38: Element 0.6 Extraordinary Site
B39: Investigation Works
A41: 0.621 A | B41: Allowance for ecology mitigation | C41: 1 | D41: Item | E41: 1000 | F41: =C41*E41 -> 1000
B42: methods - desktop study
A44: 0.631 B | B44: Allowance for UXO Survey due to | C44: 1 | D44: Item | E44: 1000 | F44: =SUM(C44*E44) -> 1000
B45: area of build
B47: To Summary | F47: =F41+F44 -> 2000
A51: TO SUMMARY | F51: =SUM(F19+F26+F36+F47) -> 54304.4

Sheet 1 Substucture
A2: PROJECT: SA1 MIXED USE DEVELOPMENT
A3: COST PLAN GROUP ELEMENT: 1 SUBSTRUCTURE
A6: Ref | B6: Description | C6: Qty | D6: Unit | E6: Rate | F6: £ p
B8: Element 1.1 Substructure
A10: A | B10: Removal of topsoil - assumed | C10: 1850 | D10: m2 | E10: 22.55 | F10: =C10*E10 -> 41717.5
B11: 150mm deep
B13: To Summary | F13: =F10 -> 41717.5
B15: Element 1.2 Specialist Foundations
A17: 1.21 A | B17: Piling mat - assumed 150mm | C17: 1850 | D17: m3 | E17: 13.7 | F17: =C17*E17 -> 25345
B18: thick
A20: 1.22 B | B20: Piling Plant - assumed 1 rig | C20: 1 | D20: Item | E20: 23000 | F20: =C20*E20 -> 23000
A22: 1.24 C | B22: Supply and install piles including | C22: 125 | D22: nr | E22: 4100 | F22: =C22*E22 -> 512500
B23: carting away of soil - assumed
B24: 600mm diameter reinforced
B25: concrete piles
A27: 1.25 D | B27: Pile Casings - Assumed | C27: 125 | D27: nr | E27: 11.2 | F27: =C27*E27 -> 1400
B28: ground survey data)
A30: 1.27 E | B30: Material arising from pile foundations | C30: 1472.5 | D30: m3 | E30: =SUM(63+12.6) -> 75.6 | F30: =C30*E30 -> 111321
B31: including disposal of material
A33: 1.28 F | B33: Allowance for breaking through | C33: 1 | D33: Item | E33: 15000 | F33: =C33*E33 -> 15000
B34: tarmac
A36: 1.29 G | B36: Cutting off tops of concrete piles & | C36: 125 | D36: nr | E36: 910 | F36: =SUM(C36*E36) -> 113750
B37: preparing heads (Nr of piles)
A39: 1.210 H | B39: Pile tests - using tension piles as reaction: | C39: 6.25 | D39: Item | E39: 9500 | F39: =SUM(C39*E39) -> 59375
B40: typical loading test 1000KN to 2000KN
B41: integrity testing (per 20 piles)
A43: 1.212 I | B43: Pile caps - 2100mm x 2100mm x 1000mm; | C43: 42 | D43: nr | E43: 910 | F43: =SUM(C43*E43) -> 38220
B44: 2-3 piles
B46: To Summary | F46: =SUM(F17+F20+F22+F27+F30+F33+F36+F39+F43) -> 899911
B48: Element 1.3 Lowest Floor
B49: Construction
A51: 1.31 A | B51: Ground Floor Slab - 200mm thick concrete | C51: 1850 | D51: m2 | E51: 125 | F51: =SUM(C51*E51) -> 231250
B52: slab with 1 layer of A252 fabric reinforcement
A54: 1.33 B | B54: Extra over for forming of lift pit | C54: 150 | D54: m2 | E54: 37 | F54: =SUM(C54*E54) -> 5550
A56: 1.37 C | B56: Drainage below ground - allowance | C56: 1 | D56: Item | E56: 150000 | F56: =SUM(C56*E56) -> 150000
A58: 1.38 D | B58: Gullies / Floor outlets - allowance | C58: 1 | D58: Item | E58: 50000 | F58: =SUM(C58*E58) -> 50000
A60: 1.310/311 | B60: Testing / comissioning of drainage | C60: 5 | D60: % | E60: Above | F60: =SUM(200000*0.05) -> 10000
B61: outlets
B63: To Summary | F63: =SUM(F51+F54+F56+F58+F60) -> 446800
A66: TO SUMMARY | F66: =SUM(F13+F46+F63) -> 1388428.5

Sheet 2 Superstructure
A2: PROJECT: SA1 MIXED USE DEVELOPMENT
A3: COST PLAN GROUP ELEMENT: 2 SUPERSTRUCTURE
A6: Ref | B6: Description | C6: Qty | D6: Unit | E6: Rate | F6: £ p
B8: Element 2.1 Frame
A10: 2.11 A | B10: Structural steel frame | C10: 250 | D10: tonne | E10: 2500 | F10: =C10*E10 -> 625000
B11: inclusive of fittings and fixtures
A13: 2.12 B | B13: Fire protection to steel frame - | C13: 1850 | D13: m2 | E13: 37.5 | F13: =C13*E13 -> 69375
B14: allowance for intermesent paint
B16: To Summary | F16: =F10+F13 -> 694375
B18: Element 2.2 Upper Floors
A20: 2.21 A | B20: Suspended floor slabs - assumed | C20: =SUM(1850*5) -> 9250 | D20: m2 | E20: 48 | F20: =C20*E20 -> 444000
B21: 200mm thick 6.0m span: 8.50kN/m2
A23: 2.22 B | B23: Formwork details to suspended | C23: 5 | D23: nr | E23: 25000 | F23: =C23*E23 -> 125000
B24: floors - allowance per floor | D24: (per floor)
A26: 2.23 C | B26: Joints / Details between concrete | C26: 5 | D26: nr | E26: 10000 | F26: =C26*E26 -> 50000
B27: suspended floor & steel frame - | D27: (per floor)
B28: allowance per floor
A30: 2.24 D | B30: Surface treatment to suspended | C30: 1 | D30: item | E30: 15000 | F30: 15000
B31: floor - allowance
B33: To Summary | F33: =F20+F23+F26+F30 -> 634000
B35: Element 2.3 Roof
A37: 2.34 A | B37: Flat roof detail - specification to | C37: 1950 | D37: m2 | E37: 93 | F37: =C37*E37 -> 181350
B38: be determined - assumption made
B39: for a warm deck detail
A41: 2.34 B | B41: Allowance for plant deck - including | C41: 45 | D41: m2 | E41: 53 | F41: =C41*E41 -> 2385
B42: area for water storage, air handling
B43: unit, mechanical riser and external
B44: chiller zone (as per roof detail on
B45: drawing)
A47: 2.311 C | B47: Roof covering - allowance made for | C47: 1950 | D47: m2 | E47: 83 | F47: =C47*E47 -> 161850
B48: warm roof detail inclusive of;
B49: waterproofing layer, ridgid
B50: insulation, vapour control layer,
B51: structural deck, ceiling & support
B52: structure - roof detail listed within
B53: cost report
A55: 2.322 D | B55: Extra over roof covering - allowance | C55: 100 | D55: m2 | E55: 47 | F55: =C55*E55 -> 4700
B56: for walkways for maintance
A58: 2.322 E | B58: Extra over roof covering - allowance | C58: 45 | D58: m2 | E58: 47 | F58: =C58*E58 -> 2115
B59: for re-inforced roof covering for
...

Sheet 3 Internal Finishes
A2: PROJECT: SA1 MIXED USE DEVELOPMENT
A3: COST PLAN GROUP ELEMENT: 3 INTERNAL FINISHES
A6: Ref | B6: Description | C6: Qty | D6: Unit | E6: Rate | F6: £ p
B8: Hotel Area
B10: Element 3.1 Wall Finishes
A12: 3.11 A | B12: Internal wall finishes to be | C12: 3425 | D12: m2 | E12: 16 | F12: =C12*E12 -> 54800
B13: taped and jointed
A15: 3.11 B | B15: Emulsion paint - base coat & | C15: 3425 | D15: m2 | E15: 23 | F15: =C15*E15 -> 78775
B16: second coat allowance
A18: 3.11 C | B18: Internal walls to be finished | C18: 3425 | D18: m2 | E18: 12.8 | F18: =C18*E18 -> 43840
B19: with paint
B21: To Summary | F21: =F12+F15+F18 -> 177415
B23: Element 3.2 Floor Finishes
A25: 3.21 A | B25: Floors to be finished with | C25: 3425 | D25: m2 | E25: 36 | F25: =C25*E25 -> 123300
B26: laminate throughout
A28: 3.21 B | B28: MDF Skirtings with one coat | C28: 3425 | D28: m2 | E28: 20 | F28: =C28*E28 -> 68500
B29: of gloss paint
B31: To Summary | F31: =F25+F28 -> 191800
B33: Element 3.3 Ceiling Finishes
A35: 3.31 A | B35: Taped and jointed plasterboard | C35: 3425 | D35: m2 | E35: 16 | F35: =C35*E35 -> 54800
B36: ceiling
A38: 3.31 B | B38: Emulsion paint - base coat & | C38: 3425 | D38: m2 | E38: 23 | F38: =C38*E38 -> 78775
B39: second coat allowance
A41: 3.31 C | B41: Ceiling grid system & tiles to | C41: 3425 | D41: m2 | E41: 43 | F41: =C41*E41 -> 147275
B42: underside of plasterboard ceiling
B44: To Summary | F44: =F35+F38+F41 -> 280850
B46: Commericial (Shop) Area
B48: Element 3.1 Wall Finishes
A50: 3.11 A | B50: Internal wall finishes to be | C50: 1571 | D50: m2 | E50: 16 | F50: =C50*E50 -> 25136
B51: taped and jointed
A53: 3.11 B | B53: Emulsion paint - base coat & | C53: 1571 | D53: m2 | E53: 23 | F53: =C53*E53 -> 36133
B54: second coat allowance
A56: 3.11 C | B56: Internal walls to be finished | C56: 1571 | D56: m2 | E56: 12.8 | F56: =C56*E56 -> 20108.8
B57: with paint
B59: To Summary | F59: =F50+F53+F56 -> 81377.8
B61: Element 3.2 Floor Finishes
A63: 3.21 A | B63: Floors to be finished with | C63: 1571 | D63: m2 | E63: 36 | F63: =C63*E63 -> 56556
B64: laminate throughout
A66: 3.21 B | B66: MDF Skirtings with one coat | C66: 1571 | D66: m2 | E66: 20 | F66: =C66*E66 -> 31420
B67: of gloss paint
...

Sheet 4 FF&E
A2: PROJECT: SA1 MIXED USE DEVELOPMENT
A3: COST PLAN GROUP ELEMENT: 4 FF&E
A6: Ref | B6: Description | C6: Qty | D6: Unit | E6: Rate | F6: £ p
B8: Element 4.1 Fittings, furnishings
B9: and equiptment
A11: 4.11 A | B11: Allowance for FF&E (Provsional | C11: 1 | D11: item | E11: 350000 | F11: 450000
B12: sum for fixed furniture)
A14: 4.41 B | B14: Allowance for signs & notices | C14: 1 | D14: item | E14: 50000 | F14: =C14*E14 -> 50000
B15: (Provisional sum for signage)
B17: To Summary | F17: =SUM(F11+F14) -> 500000
A19: TO SUMMARY | F19: =F11+F14 -> 500000

Sheet 5 Services
A2: PROJECT: SA1 MIXED USE DEVELOPMENT
A3: COST PLAN GROUP ELEMENT: 5 SERVICES
A6: Ref | B6: Description | C6: Qty | D6: Unit | E6: Rate | F6: £ p
B8: Element 5.1 Sanitary Installations
B10: Provisional Sum allowance | C10: 1 | D10: Item | E10: Listed Below
B11: for services
B13: Element 5.2 Service Equipment
B15: Provisional Sum allowance | C15: 1 | D15: Item | E15: Listed Below
B16: for services
B18: Element 5.3 Disposal Installations
B20: Provisional Sum allowance | C20: 1 | D20: Item | E20: Listed Below
B21: for services
B23: Element 5.4 Water Installations
B25: Provisional Sum allowance | C25: 1 | D25: Item | E25: Listed Below
B26: for services
B28: Element 5.5 Heat Source
B30: Provisional Sum allowance | C30: 1 | D30: Item | E30: Listed Below
B31: for services
B33: Element 5.6 Space Heating & A/C
B35: Provisional Sum allowance | C35: 1 | D35: Item | E35: Listed Below
B36: for services
B38: Element 5.7 Ventillation
B40: Provisional Sum allowance | C40: 1 | D40: Item | E40: Listed Below
B41: for services
B43: Element 5.8 Electrical Installation
B45: Provisional Sum allowance | C45: 1 | D45: Item | E45: Listed Below
B46: for services
B48: Element 5.9 Fuel Installations
B50: Provisional Sum allowance | C50: 1 | D50: Item | E50: Listed Below
B51: for services
B53: Element 5.10 Lift & Conveyor
B55: Provisional Sum allowance | C55: 1 | D55: Item | E55: Listed Below
B56: for services
B58: Element 5.11 Fire & Lighting
B60: Provisional Sum allowance | C60: 1 | D60: Item | E60: Listed Below
B61: for services
B63: Element 5.12 Comms Systems
B65: Provisional Sum allowance | C65: 1 | D65: Item | E65: Listed Below
B66: for services
B68: Element 5.13 Specialist Installations
...

Sheet 6 Prefab & Building Units
A2: PROJECT: SA1 MIXED USE DEVELOPMENT
A3: COST PLAN GROUP ELEMENT: 6 PREFABRICATION & BUILDING UNITS
A6: Ref | B6: Description | C6: Qty | D6: Unit | E6: Rate | F6: £ p
B8: Element 6.1 Prefabricated Buildings
B9: & Units
B11: Not Applicable to Project
A13: TO SUMMARY | F13: 0

Sheet 7 Works to Existing Buildings
A2: PROJECT: SA1 MIXED USE DEVELOPMENT
A3: COST PLAN GROUP ELEMENT: 7 WORK TO EXISTING BUILDINGS
A6: Ref | B6: Description | C6: Qty | D6: Unit | E6: Rate | F6: £ p
B8: Element 7.1 Minor Demolition Works
B9: & Alteration Works
B11: Not Applicable to Project
B13: Element 7.2 Repairs to Existing
B14: Services
B16: Not Applicable to Project
B18: Element 7.3 Damp Proof Courses /
B19: Fungus & beetle eradication
B21: Not Applicable to Project
B23: Element 7.4 Façade Retention
B25: Not Applicable to Project
B27: Element 7.5 Cleaning Existing Surfaces
... B33: Not Applicable to Project
A35: TO SUMMARY | F35: 0

Sheet 8 External Works
A2: PROJECT: SA1 MIXED USE DEVELOPMENT
A3: COST PLAN GROUP ELEMENT: 8 EXTERNAL WORKS
A6: Ref | B6: Description | C6: Qty | D6: Unit | E6: Rate | F6: £ p
B8: Element 8.1 Site Preparation Works
A10: 8.11 A | B10: Clearance of vegitation | C10: 3 | D10: nr | E10: 2475 | F10: =C10*E10 -> 7425
B11: (m2 allowance - site survey
B12: to inform)
A14: 8.21 B | B14: Formation of new site contours | C14: 1850 | D14: m2 | E14: 62 | F14: =C14*E14 -> 114700
B15: site to be leveled (m2 allowance -
B16: site survey to inform)
A18: 8.22 C | B18: Breaking out of concrete (m2 | C18: 500 | D18: m2 | E18: 49 | F18: =C18*E18 -> 24500
B19: allownce - site survey to inform)
A21: 8.24 D | B21: Grubbing up old drainage pipelines | C21: 200 | D21: m2 | E21: 195 | F21: =C21*E21 -> 39000
B22: (m2 allowance - site survey
B23: to inform)
B25: To Summary | F25: =F10+F14+F18+F21 -> 185625
B27: Element 8.2 Roads, Paths, Pavings
B28: and Surfacing
A30: 8.21 A | B30: Road to car park, coming in from | C30: 250 | D30: m2 | E30: 295 | F30: =C30*E30 -> 73750
B31: Langdon Road - Road width 3.5m
A33: 8.22 B | B33: Paved areas - (m2 allowance - | C33: 500 | D33: m2 | E33: 98 | F33: =C33*E33 -> 49000
B34: further developed drawings to
B35: inform)
A37: 8.25 C | B37: Allowance for two road crossings | C37: 2 | D37: nr | E37: 47000 | F37: =C37*E37 -> 94000
A39: 8.213 D | B39: Repairs to existing pavings located | C39: 100 | D39: m2 | E39: 211 | F39: =C39*E39 -> 21100
B40: on incoming road (Langdon Road)
B42: To Summary | F42: =F30+F33+F37+F39 -> 237850
B44: Element 8.3 Soft landscaping,
B45: planting and irrigation systems
A47: 8.321 A | B47: Allowance for nr planters to be | C47: 6 | D47: nr | E47: 1000 | F47: =C47*E47 -> 6000
B48: placed on new incoming road
A50: 8.324 B | B50: Allowance for nr trees planted adjacent | C50: 6 | D50: nr | E50: 150 | F50: =C50*E50 -> 900
B51: to new incoming road
B53: To Summary | F53: =F47+F50 -> 6900
B55: Element 8.4 Fencing, Railings and
B56: Walls
A58: 8.41 A | B58: Allowance for fencing around the | C58: 200 | D58: m2 | E58: 240 | F58: =C58*E58 -> 48000
B59: permeter of whole site (block boundary
B60: wall)
A62: 8.44 B | B62: Allowance for control barriers to | C62: 6 | D62: nr | E62: 1200 | F62: =C62*E62 -> 7200
...

Sheet 9 Main Contractors Prelims
A2: PROJECT: SA1 MIXED USE DEVELOPMENT
A3: COST PLAN GROUP ELEMENT: 9 MAIN CONTRACTORS PRELIMINARIES
A6: Ref | B6: Description | C6: Qty | D6: Unit | E6: Rate | F6: £ p
A8: A | B8: Main Contractors Preliminaries | C8: 12 | D8: % | E8: 6955398.3 | F8: =SUM(E8*12%) -> 834647.8
B9: at 12% of works cost
B11: To Summary
A13: TO SUMMARY | F13: =F8 -> 834647.8

Sheet 10 Main Contractors OHP
A2: PROJECT: SA1 MIXED USE DEVELOPMENT
A3: COST PLAN GROUP ELEMENT: 10 MAIN CONTRACTORS OHP
A6: Ref | B6: Description | C6: Qty | D6: Unit | E6: Rate | F6: £ p
A8: A | B8: Main Contractors over heads | C8: 3 | D8: % | E8: 7790046.1 | F8: =SUM(E8*3%) -> 233701.38
B9: and profit (OHP) at 3% of works
B10: cost
B12: To Summary
A14: TO SUMMARY | F14: =F8 -> 233701.38

Sheet 11 Project Design Team Fees
A2: PROJECT: SA1 MIXED USE DEVELOPMENT
A3: COST PLAN GROUP ELEMENT: 11 PROJECT DESIGN TEAM FEES
A6: Ref | B6: Description | C6: Qty | D6: Unit | E6: Rate | F6: £ p
A8: A | B8: Project Design Team Fees | C8: 3 | D8: % | E8: ='10 Main Contractors OHP'!E8+'10 Main Contractors OHP'!F14 -> 8023747.5 | F8: =E8*3% -> 240712.42
B9: and profit (OHP) at 3% of works
B10: cost (Assumption of traditional
B11: procurement design method)
B14: To Summary
A16: TO SUMMARY | F16: =F8 -> 240712.42

Sheet 12 Other Project Costs 
A2: PROJECT: SA1 MIXED USE DEVELOPMENT
A3: COST PLAN GROUP ELEMENT: 12 OTHER PROJECT COSTS
A6: Ref | B6: Description | C6: Qty | D6: Unit | E6: Rate | F6: £ p
A8: A | B8: Allowances made within
B9: cost report
B11: To Summary
A13: TO SUMMARY | F13: =F5 -> 0

Sheet 13 Project Risks
A2: PROJECT: SA1 MIXED USE DEVELOPMENT
A3: COST PLAN GROUP ELEMENT: 13 PROJECT RISKS
A6: Ref | B6: Description | C6: Qty | D6: Unit | E6: Rate | F6: £ p
A8: A | B8: Risks withincost report
B10: To Summary
A12: TO SUMMARY | F12: =F5 -> 0

Sheet Roof Detail (Assumed)
A1: ROOF DETAIL
A4: ROOF DETAILED - ASSUMED WARM DECK
A23: Source;
A24: Flat Roof Design Considerations (bauder.co.uk)

Sheet BCISIndices
A1: Series: | B1: BCIS All-in TPI | E1: BCIS General Building Cost Index
A2: Series number: | B2: 101 | D2: quarterly | E2: 1111 | G2: monthly
A3: Base: | B3: 1985 mean = 100 | E3: 1985 mean = 100
A4: Last updated: | B4: 15-Sep-2023 | E4: 24-Oct-2023
A5: Notes:
A6: Downloaded: | B6: 26-Oct-2023 13:45
A7: Date | B7: Index | C7: Status | D7: Equivalent sample | E7: Index | F7: Status
A8: 44105 | E8: 362.6 | F8: Firm
A9: 44136 | B9: 328 | C9: Provisional | E9: 363.6 | F9: Firm
A10: 44166 | E10: 366.2 | F10: Firm
A11: 44197 | E11: 367.1 | F11: Firm
A12: 44228 | B12: 328 | C12: Provisional | E12: 370.4 | F12: Firm
A13: 44256 | E13: 373.5 | F13: Firm
A14: 44287 | E14: 375.6 | F14: Firm
A15: 44317 | B15: 331 | C15: Provisional | E15: 378.4 | F15: Firm
A16: 44348 | E16: 381.4 | F16: Firm
A17: 44378 | E17: 388.2 | F17: Revised
A18: 44409 | B18: 339 | C18: Provisional | E18: 395.6 | F18: Revised
A19: 44440 | E19: 399.6 | F19: Revised
A20: 44470 | E20: 402.4 | F20: Revised
A21: 44501 | B21: 344 | C21: Provisional | E21: 404.7 | F21: Revised
A22: 44531 | E22: 405 | F22: Revised
A23: 44562 | E23: 406.4 | F23: Revised
A24: 44593 | B24: 349 | C24: Provisional | E24: 408.1 | F24: Revised
A25: 44621 | E25: 413.2 | F25: Revised
A26: 44652 | E26: 425.1 | F26: Revised
A27: 44682 | B27: 365 | C27: Provisional | E27: 433.7 | F27: Firm
A28: 44713 | E28: 440.6 | F28: Revised
A29: 44743 | E29: 440.7 | F29: Revised
A30: 44774 | B30: 371 | C30: Provisional | E30: 444.7 | F30: Revised
A31: 44805 | E31: 441.9 | F31: Firm
A32: 44835 | E32: 442.9 | F32: Firm
A33: 44866 | B33: 375 | C33: Provisional | E33: 441.7 | F33: Revised
A34: 44896 | E34: 440.4 | F34: Revised
A35: 44927 | E35: 440.9 | F35: Firm
A36: 44958 | B36: 379 | C36: Provisional | E36: 442.3 | F36: Firm
A37: 44986 | E37: 443.4 | F37: Firm
A38: 45017 | E38: 445.5 | F38: Firm
A39: 45047 | B39: 383 | C39: Provisional | E39: 446.7 | F39: Firm
A40: 45078 | E40: 443.9 | F40: Firm
...

Sheet BCISIndicies2
A1: Series: | B1: BCIS All-in TPI
A2: Series number: | B2: 101 | D2: quarterly
A3: Base: | B3: 1985 mean = 100
A4: Last updated: | B4: 08-Dec-2023
A5: Notes:
A6: Downloaded: | B6: 29-Feb-2024 10:01
A7: Date | B7: Index | C7: Status | D7: Equivalent sample
A8: 44593 | B8: 349 | C8: Provisional
A9: 44682 | B9: 365 | C9: Provisional
A10: 44774 | B10: 371 | C10: Provisional
A11: 44866 | B11: 375 | C11: Provisional
A12: 44958 | B12: 379 | C12: Provisional
A13: 45047 | B13: 383 | C13: Provisional
A14: 45139 | B14: 386 | C14: Provisional
A15: 45231 | B15: 388 | C15: Provisional
A16: 45323 | B16: 389 | C16: Forecast
A17: 45413 | B17: 391 | C17: Forecast
A18: 45505 | B18: 393 | C18: Forecast
A19: 45597 | B19: 396 | C19: Forecast
A20: 45689 | B20: 399 | C20: Forecast

Sheet BCISIndices - Location
A1: Series: | B1: BCIS Regional TPI: Greater London
A2: Series number: | B2: 228 | D2: quarterly
A3: Base: | B3: 2010 mean = 100
A4: Last updated: | B4: 15-Sep-2023
A5: Notes: | B5: Derived index based on BCIS Tender Price Studies
A6: Downloaded: | B6: 31-Oct-2023 11:05
A7: Date | B7: Index | C7: Status | D7: Equiv. Sample | E7: Percentage change
E8: On year | F8: On quarter
A9: 44501 | B9: 184 | D9: 11 | E9: 5.1 | F9: 1.7
A10: 44593 | B10: 187 | D10: 11 | E10: 7.5 | F10: 1.6
A11: 44682 | B11: 195 | D11: 10 | E11: 10.8 | F11: 4.3
A12: 44774 | B12: 198 | D12: 9 | E12: 9.4 | F12: 1.5
A13: 44866 | B13: 200 | D13: 9 | E13: 8.7 | F13: 1.0
A14: 44958 | B14: 203 | D14: 8 | E14: 8.6 | F14: 1.5
A16: Series: | B16: BCIS Regional TPI: Wales
A17: Series number: | B17: 232 | D17: quarterly
A18: Base: | B18: 2010 mean = 100
A19: Last updated: | B19: 15-Sep-2023
A20: Notes: | B20: Derived index based on BCIS Tender Price Studies
A21: Downloaded: | B21: 31-Oct-2023 11:05
A22: Date | B22: Index | C22: Status | D22: Equiv. Sample | E22: Percentage change
E23: On year | F23: On quarter
A24: 44501 | B24: 166 | D24: 3 | E24: 4.4 | F24: 1.2
A25: 44593 | B25: 169 | D25: 3 | E25: 6.3 | F25: 1.8
A26: 44682 | B26: 177 | D26: 2 | E26: 10.6 | F26: 4.7
A27: 44774 | B27: 180 | D27: 2 | E27: 9.8 | F27: 1.7
A28: 44866 | B28: 181 | D28: 2 | E28: 9.0 | F28: 0.6
A29: 44958 | B29: 183 | D29: 2 | E29: 8.3 | F29: 1.1

Sheet Regional TPI's
A1: Series: | B1: BCIS Regional TPI: Wales
A2: Series number: | B2: 232 | D2: quarterly
A3: Base: | B3: 2010 mean = 100
A4: Last updated: | B4: 08-Mar-2024
A5: Notes: | B5: Derived index based on BCIS Tender Price Studies
A6: Downloaded: | B6: 09-Apr-2024 11:09
A7: Date | B7: Index | C7: Status | D7: Equiv. Sample
A8: 44682 | B8: 176 | D8: 2
A9: 44774 | B9: 179 | D9: 2
A10: 44866 | B10: 181 | D10: 2
A11: 44958 | B11: 182 | D11: 2
A12: 45047 | B12: 184 | D12: 2
